Workbook
Name _: DATE(YEAR('10% spread plus 5% lumpsum'!Loan_Start),MONTH('10% spread plus 5% lumpsum'!Loan_Start)+Payment_Number,DAY('10% spread plus 5% lumpsum'!Loan_Start))
Name _: DATE(YEAR('10% step up plus 5% lumpsum'!Loan_Start),MONTH('10% step up plus 5% lumpsum'!Loan_Start)+Payment_Number,DAY('10% step up plus 5% lumpsum'!Loan_Start))
Name _: DATE(YEAR(Loan_Start),MONTH(Loan_Start)+Payment_Number,DAY(Loan_Start))
Name _: DATE(YEAR(Loan_Start),MONTH(Loan_Start)+Payment_Number,DAY(Loan_Start))
Name Ancheta: #N/A
Name Beg_Bal: #REF!
Name Beg_Bal: #REF!
Name Beg_Bal: 'Amort Computation'!$C$25:$C$384
Name Beg_Bal: #REF!
Name Calaca: #N/A
Name Data: 'Amort Computation'!$A$25:$I$384
Name DocTemplates: OFFSET(#REF!,,,COUNTA(#REF!),1)
Name DocTemplates: OFFSET(#REF!,,,COUNTA(#REF!),1)
Name DocTemplates: OFFSET(#REF!,,,COUNTA(#REF!),1)
Name DocTemplates: OFFSET(#REF!,,,COUNTA(#REF!),1)
Name DocTemplates: OFFSET(#REF!,,,COUNTA(#REF!),1)
Name DocTemplates: OFFSET(#REF!,,,COUNTA(#REF!),1)
Name DocTemplates: OFFSET(#REF!,,,COUNTA(#REF!),1)
Name DocTemplates: OFFSET(#REF!,,,COUNTA(#REF!),1)
Name End_Bal: #REF!
Name End_Bal: #REF!
Name End_Bal: 'Amort Computation'!$I$25:$I$384
Name End_Bal: #REF!
Name Extra_Pay: #REF!
Name Extra_Pay: #REF!
Name Extra_Pay: 'Amort Computation'!$E$25:$E$384
Name Extra_Pay: #REF!
Name Full_Print: '[1]Amort Computation'!$A$1:$I$384
Name Full_Print: '[2]Amort Computation'!$A$1:$I$384
Name Full_Print: 'Amort Computation'!$A$1:$I$384
Name Header_Row: ROW(#REF!)
Name Header_Row: ROW(#REF!)
Name Header_Row: ROW('Amort Computation'!$24:$24)
Name Header_Row: ROW(#REF!)
Name Int: #REF!
Name Int: #REF!
Name Int: 'Amort Computation'!$H$25:$H$384
Name Int: #REF!
Name Interest_Rate: #REF!
Name Interest_Rate: #REF!
Name Interest_Rate: 'Amort Computation'!$D$15
Name Interest_Rate: #REF!
Name Last_Row: IF('10% spread plus 5% lumpsum'!Values_Entered,'10% spread plus 5% lumpsum'!Header_Row+'10% spread plus 5% lumpsum'!Number_of_Payments,'10% spread plus 5% lumpsum'!Header_Row)
Name Last_Row: IF('10% step up plus 5% lumpsum'!Values_Entered,'10% step up plus 5% lumpsum'!Header_Row+'10% step up plus 5% lumpsum'!Number_of_Payments,'10% step up plus 5% lumpsum'!Header_Row)
Name Last_Row: IF('Amort Computation'!Values_Entered,'Amort Computation'!Header_Row+'Amort Computation'!Number_of_Payments,'Amort Computation'!Header_Row)
Name Last_Row: IF(RECOVERIES!Values_Entered,Header_Row+RECOVERIES!Number_of_Payments,Header_Row)
Name Last_Row: IF(Values_Entered,Header_Row+Number_of_Payments,Header_Row)
Name Loan_Amount: #REF!
Name Loan_Amount: #REF!
Name Loan_Amount: 'Amort Computation'!$D$14
Name Loan_Amount: #REF!
Name Loan_Start: #REF!
Name Loan_Start: #REF!
Name Loan_Start: 'Amort Computation'!$D$18
Name Loan_Start: #REF!
Name Loan_Years: #REF!
Name Loan_Years: #REF!
Name Loan_Years: 'Amort Computation'!$D$16
Name Loan_Years: #REF!
Name Num_Pmt_Per_Year: #REF!

Sheet Construction Sched 2023
O7: *Internal applied to Equity term plus 2 months buffer
B12: Aug. 2023
B13: Current term | C13: New Term
A14: B1 | B14: 27 | C14: 30
A15: B2 | B15: 32 | C15: 35
A16: B3 | B16: 37 | C16: 40
A20: NEW | B20: as of Sept. 28,2023
B41: NEW
B42: B1 | C42: 45748
B43: B2 | C43: 45931
B44: B3 | C44: 46174

Sheet Amort Computation
H2: ANNEX "A"
A4: ILOILO SOUTHPRIME DEVELOPERS INC. | G4: Date and Time Printed: | I4: =NOW() -> 45902.531
A7: Buyer's Name:
A8: Project Name: | C8: EMERALD ESTATES
A9: Unit No.: | C9: BLOCK LOT | G9: Financing:
B13: Payment Schedule | F13: Outstanding Balance Summary
C14: Loan Amount | D14: ='Corrected and Updated TSF 2'!FO225 -> 0 | G14: Scheduled Payment | H14: =IF(Values_Entered,-PMT(Interest_Rate/Num_Pmt_Per_Year,Loan_Years*Num_Pmt_Per_Year,Loan_Amount),"")
C15: Annual Interest Rate | D15: 0.085 | G15: Scheduled Number of Payments
C16: Loan Period in Years | D16: 10 | G16: Actual Number of Payments | H16: =IF(Values_Entered,Number_of_Payments,"")
C17: Number of Payments Per Year | D17: 12 | G17: Total Early Payments | H17: 0
C18: Start Date of Loan | D18: 45005 | G18: Total Interest | H18: =IF(Values_Entered,SUMIF(Beg_Bal,">0",Int),"") | M18: PROJECTION
C19: Optional Extra Payments | M19: LINK GOING TO LD OR INHS MASTERLIST
L21: MONTH | M21: =INDEX($B$25:$B$135,COLUMN(A1),1) -> 45005 | N21: =INDEX($B$25:$B$135,COLUMN(B1),1) -> 45036 | O21: =INDEX($B$25:$B$135,COLUMN(C1),1) -> 45066 | P21: =INDEX($B$25:$B$135,COLUMN(D1),1) -> 45097 | Q21: =INDEX($B$25:$B$135,COLUMN(E1),1) -> 45127 | R21: =INDEX($B$25:$B$135,COLUMN(F1),1) -> 45158 | S21: =INDEX($B$25:$B$135,COLUMN(G1),1) -> 45189 | T21: =INDEX($B$25:$B$135,COLUMN(H1),1) -> 45219 | ... BT21: =INDEX($B$25:$B$135,COLUMN(BH1),1) -> 46803 | BW21: amount | BX21: prin cipal | BY21: interest | BZ21: balance
A23: PmtNo. | B23: Payment Date | C23: Beginning Balance | D23: Scheduled Payment | E23: Extra Payment | F23: Total Payment | G23: Principal | H23: Interest | I23: Ending Balance | J23: Paid/Credited | L23: TRANCHES | M23: 1 | N23: =M23+1 -> 2 | O23: =N23+1 -> 3 | P23: =O23+1 -> 4 | Q23: =P23+1 -> 5 | R23: =Q23+1 -> 6 | S23: =R23+1 -> 7 | T23: =S23+1 -> 8 | U23: =T23+1 -> 9 | ... BT23: =BS23+1 -> 60 | BZ23: =Loan_Amount -> 0 | CA23: =PMT(16%/12,60,BZ23) -> 0
A25: =IF(Values_Entered,1,"") | B25: =Loan_Start -> 45005 | C25: =IF(Values_Entered,Loan_Amount,"") | D25: =IF(Pay_Num<>"",Scheduled_Monthly_Payment,"") | F25: =IF(AND(Pay_Num<>"",Sched_Pay+Extra_Pay<Beg_Bal),Sched_Pay+Extra_Pay,IF(Pay_Num<>"",Beg_Bal,"")) -> #VALUE! | G25: =IF(Pay_Num<>"",Total_Pay-Int,"") | H25: =IF(Pay_Num<>"",Beg_Bal*(Interest_Rate/Num_Pmt_Per_Year),"") | I25: =IF(AND(Pay_Num<>"",Sched_Pay+Extra_Pay<Beg_Bal),Beg_Bal-Princ,IF(Pay_Num<>"",0,"")) -> #VALUE! | J25: ='[4]B11-L8'!J32 -> PAID | L25: =G23 -> Principal | M25: =INDEX($G$25:$H$288,COLUMN(A1),1) | N25: =INDEX($G$25:$H$288,COLUMN(B1),1) | O25: =INDEX($G$25:$H$288,COLUMN(C1),1) | P25: =INDEX($G$25:$H$288,COLUMN(D1),1) | Q25: =INDEX($G$25:$H$288,COLUMN(E1),1) | R25: =INDEX($G$25:$H$288,COLUMN(F1),1) | S25: =INDEX($G$25:$H$288,COLUMN(G1),1) | T25: =INDEX($G$25:$H$288,COLUMN(H1),1) | ... BT25: =INDEX($G$25:$H$288,COLUMN(BH1),1) | BW25: 34058 | BX25: =BW25-BY25 -> 34058 | BY25: =BZ23*16%/12 -> 0 | BZ25: =BZ23-BX25 -> -34058
A26: =IF(Values_Entered,A25+1,"") | B26: =Loan_Start+31 -> 45036 | C26: =IF(Pay_Num<>"",I25,"") | D26: =IF(Pay_Num<>"",Scheduled_Monthly_Payment,"") | F26: =IF(AND(Pay_Num<>"",Sched_Pay+Extra_Pay<Beg_Bal),Sched_Pay+Extra_Pay,IF(Pay_Num<>"",Beg_Bal,"")) -> #VALUE! | G26: =IF(Pay_Num<>"",Total_Pay-Int,"") | H26: =IF(Pay_Num<>"",Beg_Bal*Interest_Rate/Num_Pmt_Per_Year,"") | I26: =IF(AND(Pay_Num<>"",Sched_Pay+Extra_Pay<Beg_Bal),Beg_Bal-Princ,IF(Pay_Num<>"",0,"")) -> #VALUE! | J26: ='[4]B11-L8'!J33 -> PAID | L26: =H23 -> Interest | M26: =INDEX($H$25:$H$164,COLUMN(A2),1) | N26: =INDEX($H$25:$H$164,COLUMN(B2),1) | O26: =INDEX($H$25:$H$164,COLUMN(C2),1) | P26: =INDEX($H$25:$H$164,COLUMN(D2),1) | Q26: =INDEX($H$25:$H$164,COLUMN(E2),1) | R26: =INDEX($H$25:$H$164,COLUMN(F2),1) | S26: =INDEX($H$25:$H$164,COLUMN(G2),1) | T26: =INDEX($H$25:$H$164,COLUMN(H2),1) | ... BT26: =INDEX($H$25:$H$164,COLUMN(BH2),1) | BW26: 34058 | BX26: =BW26-BY26 -> 34512.107 | BY26: =BZ25*16%/12 -> -454.10667 | BZ26: =BZ25-BX26 -> -68570.107
A27: =IF(Values_Entered,A26+1,"") | B27: =B26+30 -> 45066 | C27: =IF(Pay_Num<>"",I26,"") | D27: =IF(Pay_Num<>"",Scheduled_Monthly_Payment,"") | F27: =IF(AND(Pay_Num<>"",Sched_Pay+Extra_Pay<Beg_Bal),Sched_Pay+Extra_Pay,IF(Pay_Num<>"",Beg_Bal,"")) -> #VALUE! | G27: =IF(Pay_Num<>"",Total_Pay-Int,"") | H27: =IF(Pay_Num<>"",Beg_Bal*Interest_Rate/Num_Pmt_Per_Year,"") | I27: =IF(AND(Pay_Num<>"",Sched_Pay+Extra_Pay<Beg_Bal),Beg_Bal-Princ,IF(Pay_Num<>"",0,"")) -> #VALUE! | J27: ='[4]B11-L8'!J34 -> PAID | L27: TOTAL | M27: =SUM(M25:M26) -> 0 | N27: =SUM(N25:N26) -> 0 | O27: =SUM(O25:O26) -> 0 | P27: =SUM(P25:P26) -> 0 | Q27: =SUM(Q25:Q26) -> 0 | R27: =SUM(R25:R26) -> 0 | S27: =SUM(S25:S26) -> 0 | T27: =SUM(T25:T26) -> 0 | ... BT27: =SUM(BT25:BT26) -> 0 | BW27: 34058 | BX27: =BW27-BY27 -> 34972.268 | BY27: =BZ26*16%/12 -> -914.26809 | BZ27: =BZ26-BX27 -> -103542.37
A28: =IF(Values_Entered,A27+1,"") | B28: =B27+31 -> 45097 | C28: =IF(Pay_Num<>"",I27,"") | D28: =IF(Pay_Num<>"",Scheduled_Monthly_Payment,"") | F28: =IF(AND(Pay_Num<>"",Sched_Pay+Extra_Pay<Beg_Bal),Sched_Pay+Extra_Pay,IF(Pay_Num<>"",Beg_Bal,"")) -> #VALUE! | G28: =IF(Pay_Num<>"",Total_Pay-Int,"") | H28: =IF(Pay_Num<>"",Beg_Bal*Interest_Rate/Num_Pmt_Per_Year,"") | I28: =IF(AND(Pay_Num<>"",Sched_Pay+Extra_Pay<Beg_Bal),Beg_Bal-Princ,IF(Pay_Num<>"",0,"")) -> #VALUE! | J28: ='[4]B11-L8'!J35 -> PAID | M28: =J25 -> PAID | N28: =K25 -> 0 | BW28: 34058 | BX28: =BW28-BY28 -> 35438.565 | BY28: =BZ27*16%/12 -> -1380.565 | BZ28: =BZ27-BX28 -> -138980.94
A29: =IF(Values_Entered,A28+1,"") | B29: =B28+30 -> 45127 | C29: =IF(Pay_Num<>"",I28,"") | D29: =IF(Pay_Num<>"",Scheduled_Monthly_Payment,"") | F29: =IF(AND(Pay_Num<>"",Sched_Pay+Extra_Pay<Beg_Bal),Sched_Pay+Extra_Pay,IF(Pay_Num<>"",Beg_Bal,"")) -> #VALUE! | G29: =IF(Pay_Num<>"",Total_Pay-Int,"") | H29: =IF(Pay_Num<>"",Beg_Bal*Interest_Rate/Num_Pmt_Per_Year,"") | I29: =IF(AND(Pay_Num<>"",Sched_Pay+Extra_Pay<Beg_Bal),Beg_Bal-Princ,IF(Pay_Num<>"",0,"")) -> #VALUE! | J29: ='[4]B11-L8'!J36 -> PAID | BW29: 34058 | BX29: =BW29-BY29 -> 35911.079 | BY29: =BZ28*16%/12 -> -1853.0792 | BZ29: =BZ28-BX29 -> -174892.02
A30: =IF(Values_Entered,A29+1,"") | B30: =B29+31 -> 45158 | C30: =IF(Pay_Num<>"",I29,"") | D30: =IF(Pay_Num<>"",Scheduled_Monthly_Payment,"") | F30: =IF(AND(Pay_Num<>"",Sched_Pay+Extra_Pay<Beg_Bal),Sched_Pay+Extra_Pay,IF(Pay_Num<>"",Beg_Bal,"")) -> #VALUE! | G30: =IF(Pay_Num<>"",Total_Pay-Int,"") | H30: =IF(Pay_Num<>"",Beg_Bal*Interest_Rate/Num_Pmt_Per_Year,"") | I30: =IF(AND(Pay_Num<>"",Sched_Pay+Extra_Pay<Beg_Bal),Beg_Bal-Princ,IF(Pay_Num<>"",0,"")) -> #VALUE! | J30: ='[4]B11-L8'!J37 -> PAID | BW30: 34058 | BX30: =BW30-BY30 -> 36389.894 | BY30: =BZ29*16%/12 -> -2331.8936 | BZ30: =BZ29-BX30 -> -211281.91
A31: =IF(Values_Entered,A30+1,"") | B31: =B30+31 -> 45189 | C31: =IF(Pay_Num<>"",I30,"") | D31: =IF(Pay_Num<>"",Scheduled_Monthly_Payment,"") | F31: =IF(AND(Pay_Num<>"",Sched_Pay+Extra_Pay<Beg_Bal),Sched_Pay+Extra_Pay,IF(Pay_Num<>"",Beg_Bal,"")) -> #VALUE! | G31: =IF(Pay_Num<>"",Total_Pay-Int,"") | H31: =IF(Pay_Num<>"",Beg_Bal*Interest_Rate/Num_Pmt_Per_Year,"") | I31: =IF(AND(Pay_Num<>"",Sched_Pay+Extra_Pay<Beg_Bal),Beg_Bal-Princ,IF(Pay_Num<>"",0,"")) -> #VALUE! | J31: ='[4]B11-L8'!J38 -> PAID | BW31: 34058 | BX31: =BW31-BY31 -> 36875.092 | BY31: =BZ30*16%/12 -> -2817.0922 | BZ31: =BZ30-BX31 -> -248157 | CJ31: Total Interest for 9 months
A32: =IF(Values_Entered,A31+1,"") | B32: =B31+30 -> 45219 | C32: =IF(Pay_Num<>"",I31,"") | D32: =IF(Pay_Num<>"",Scheduled_Monthly_Payment,"") | F32: =IF(AND(Pay_Num<>"",Sched_Pay+Extra_Pay<Beg_Bal),Sched_Pay+Extra_Pay,IF(Pay_Num<>"",Beg_Bal,"")) -> #VALUE! | G32: =IF(Pay_Num<>"",Total_Pay-Int,"") | H32: =IF(Pay_Num<>"",Beg_Bal*Interest_Rate/Num_Pmt_Per_Year,"") | I32: =IF(AND(Pay_Num<>"",Sched_Pay+Extra_Pay<Beg_Bal),Beg_Bal-Princ,IF(Pay_Num<>"",0,"")) -> #VALUE! | J32: ='[4]B11-L8'!J39 -> PAID | BW32: 34058 | BX32: =BW32-BY32 -> 37366.76 | BY32: =BZ31*16%/12 -> -3308.7601 | BZ32: =BZ31-BX32 -> -285523.76 | CJ32: =SUM(H25:H33) -> 0
A33: =IF(Values_Entered,A32+1,"") | B33: =B32+31 -> 45250 | C33: =IF(Pay_Num<>"",I32,"") | D33: =IF(Pay_Num<>"",Scheduled_Monthly_Payment,"") | F33: =IF(AND(Pay_Num<>"",Sched_Pay+Extra_Pay<Beg_Bal),Sched_Pay+Extra_Pay,IF(Pay_Num<>"",Beg_Bal,"")) -> #VALUE! | G33: =IF(Pay_Num<>"",Total_Pay-Int,"") | H33: =IF(Pay_Num<>"",Beg_Bal*Interest_Rate/Num_Pmt_Per_Year,"") | I33: =IF(AND(Pay_Num<>"",Sched_Pay+Extra_Pay<Beg_Bal),Beg_Bal-Princ,IF(Pay_Num<>"",0,"")) -> #VALUE! | J33: ='[4]B11-L8'!J40 -> PAID | BW33: 34058 | BX33: =BW33-BY33 -> 37864.984 | BY33: =BZ32*16%/12 -> -3806.9835 | BZ33: =BZ32-BX33 -> -323388.75
A34: =IF(Values_Entered,A33+1,"") | B34: =B33+30 -> 45280 | C34: =IF(Pay_Num<>"",I33,"") | D34: =IF(Pay_Num<>"",Scheduled_Monthly_Payment,"") | F34: =IF(AND(Pay_Num<>"",Sched_Pay+Extra_Pay<Beg_Bal),Sched_Pay+Extra_Pay,IF(Pay_Num<>"",Beg_Bal,"")) -> #VALUE! | G34: =IF(Pay_Num<>"",Total_Pay-Int,"") | H34: =IF(Pay_Num<>"",Beg_Bal*Interest_Rate/Num_Pmt_Per_Year,"") | I34: =IF(AND(Pay_Num<>"",Sched_Pay+Extra_Pay<Beg_Bal),Beg_Bal-Princ,IF(Pay_Num<>"",0,"")) -> #VALUE! | J34: ='[4]B11-L8'!J41 -> PAID | BW34: 34058 | BX34: =BW34-BY34 -> 38369.85 | BY34: =BZ33*16%/12 -> -4311.85 | BZ34: =BZ33-BX34 -> -361758.6
A35: =IF(Values_Entered,A34+1,"") | B35: =B34+31 -> 45311 | C35: =IF(Pay_Num<>"",I34,"") | D35: =IF(Pay_Num<>"",Scheduled_Monthly_Payment,"") | F35: =IF(AND(Pay_Num<>"",Sched_Pay+Extra_Pay<Beg_Bal),Sched_Pay+Extra_Pay,IF(Pay_Num<>"",Beg_Bal,"")) -> #VALUE! | G35: =IF(Pay_Num<>"",Total_Pay-Int,"") | H35: =IF(Pay_Num<>"",Beg_Bal*Interest_Rate/Num_Pmt_Per_Year,"") | I35: =IF(AND(Pay_Num<>"",Sched_Pay+Extra_Pay<Beg_Bal),Beg_Bal-Princ,IF(Pay_Num<>"",0,"")) -> #VALUE! | J35: ='[4]B11-L8'!J42 -> PAID | L35: TOTAL AMOUNT | BW35: 34058 | BX35: =BW35-BY35 -> 38881.448 | BY35: =BZ34*16%/12 -> -4823.448 | BZ35: =BZ34-BX35 -> -400640.05
A36: =IF(Values_Entered,A35+1,"") | B36: =B35+31 -> 45342 | C36: =IF(Pay_Num<>"",I35,"") | D36: =IF(Pay_Num<>"",Scheduled_Monthly_Payment,"") | F36: =IF(AND(Pay_Num<>"",Sched_Pay+Extra_Pay<Beg_Bal),Sched_Pay+Extra_Pay,IF(Pay_Num<>"",Beg_Bal,"")) -> #VALUE! | G36: =IF(Pay_Num<>"",Total_Pay-Int,"") | H36: =IF(Pay_Num<>"",Beg_Bal*Interest_Rate/Num_Pmt_Per_Year,"") | I36: =IF(AND(Pay_Num<>"",Sched_Pay+Extra_Pay<Beg_Bal),Beg_Bal-Princ,IF(Pay_Num<>"",0,"")) -> #VALUE! | J36: ='[4]B11-L8'!J43 -> PAID | L36: =SUM(F25:F84) -> #VALUE! | BW36: 34058 | BX36: =BW36-BY36 -> 39399.867 | BY36: =BZ35*16%/12 -> -5341.8673 | BZ36: =BZ35-BX36 -> -440039.91
A37: =IF(Values_Entered,A36+1,"") | B37: =B36+29 -> 45371 | C37: =IF(Pay_Num<>"",I36,"") | D37: =IF(Pay_Num<>"",Scheduled_Monthly_Payment,"") | F37: =IF(AND(Pay_Num<>"",Sched_Pay+Extra_Pay<Beg_Bal),Sched_Pay+Extra_Pay,IF(Pay_Num<>"",Beg_Bal,"")) -> #VALUE! | G37: =IF(Pay_Num<>"",Total_Pay-Int,"") | H37: =IF(Pay_Num<>"",Beg_Bal*Interest_Rate/Num_Pmt_Per_Year,"") | I37: =IF(AND(Pay_Num<>"",Sched_Pay+Extra_Pay<Beg_Bal),Beg_Bal-Princ,IF(Pay_Num<>"",0,"")) -> #VALUE! | J37: ='[4]B11-L8'!J44 -> PAID | BW37: 34058 | BX37: =BW37-BY37 -> 39925.199 | BY37: =BZ36*16%/12 -> -5867.1988 | BZ37: =BZ36-BX37 -> -479965.11
A38: =IF(Values_Entered,A37+1,"") | B38: =B37+31 -> 45402 | C38: =IF(Pay_Num<>"",I37,"") | D38: =IF(Pay_Num<>"",Scheduled_Monthly_Payment,"") | F38: =IF(AND(Pay_Num<>"",Sched_Pay+Extra_Pay<Beg_Bal),Sched_Pay+Extra_Pay,IF(Pay_Num<>"",Beg_Bal,"")) -> #VALUE! | G38: =IF(Pay_Num<>"",Total_Pay-Int,"") | H38: =IF(Pay_Num<>"",Beg_Bal*Interest_Rate/Num_Pmt_Per_Year,"") | I38: =IF(AND(Pay_Num<>"",Sched_Pay+Extra_Pay<Beg_Bal),Beg_Bal-Princ,IF(Pay_Num<>"",0,"")) -> #VALUE! | J38: ='[4]B11-L8'!J45 -> PAID | BW38: 34058 | BX38: =BW38-BY38 -> 40457.535 | BY38: =BZ37*16%/12 -> -6399.5348 | BZ38: =BZ37-BX38 -> -520422.65
A39: =IF(Values_Entered,A38+1,"") | B39: =B38+30 -> 45432 | C39: =IF(Pay_Num<>"",I38,"") | D39: =IF(Pay_Num<>"",Scheduled_Monthly_Payment,"") | F39: =IF(AND(Pay_Num<>"",Sched_Pay+Extra_Pay<Beg_Bal),Sched_Pay+Extra_Pay,IF(Pay_Num<>"",Beg_Bal,"")) -> #VALUE! | G39: =IF(Pay_Num<>"",Total_Pay-Int,"") | H39: =IF(Pay_Num<>"",Beg_Bal*Interest_Rate/Num_Pmt_Per_Year,"") | I39: =IF(AND(Pay_Num<>"",Sched_Pay+Extra_Pay<Beg_Bal),Beg_Bal-Princ,IF(Pay_Num<>"",0,"")) -> #VALUE! | J39: ='[4]B11-L8'!J46 -> PAID | BW39: 34058 | BX39: =BW39-BY39 -> 40996.969 | BY39: =BZ38*16%/12 -> -6938.9686 | BZ39: =BZ38-BX39 -> -561419.62
A40: =IF(Values_Entered,A39+1,"") | B40: =B39+31 -> 45463 | C40: =IF(Pay_Num<>"",I39,"") | D40: =IF(Pay_Num<>"",Scheduled_Monthly_Payment,"") | F40: =IF(AND(Pay_Num<>"",Sched_Pay+Extra_Pay<Beg_Bal),Sched_Pay+Extra_Pay,IF(Pay_Num<>"",Beg_Bal,"")) -> #VALUE! | G40: =IF(Pay_Num<>"",Total_Pay-Int,"") | H40: =IF(Pay_Num<>"",Beg_Bal*Interest_Rate/Num_Pmt_Per_Year,"") | I40: =IF(AND(Pay_Num<>"",Sched_Pay+Extra_Pay<Beg_Bal),Beg_Bal-Princ,IF(Pay_Num<>"",0,"")) -> #VALUE! | J40: ='[4]B11-L8'!J47 -> PAID | BW40: 34058 | BX40: =BW40-BY40 -> 41543.595 | BY40: =BZ39*16%/12 -> -7485.5949 | BZ40: =BZ39-BX40 -> -602963.21
A41: =IF(Values_Entered,A40+1,"") | B41: =B40+30 -> 45493 | C41: =IF(Pay_Num<>"",I40,"") | D41: =IF(Pay_Num<>"",Scheduled_Monthly_Payment,"") | F41: =IF(AND(Pay_Num<>"",Sched_Pay+Extra_Pay<Beg_Bal),Sched_Pay+Extra_Pay,IF(Pay_Num<>"",Beg_Bal,"")) -> #VALUE! | G41: =IF(Pay_Num<>"",Total_Pay-Int,"") | H41: =IF(Pay_Num<>"",Beg_Bal*Interest_Rate/Num_Pmt_Per_Year,"") | I41: =IF(AND(Pay_Num<>"",Sched_Pay+Extra_Pay<Beg_Bal),Beg_Bal-Princ,IF(Pay_Num<>"",0,"")) -> #VALUE! | J41: ='[4]B11-L8'!J48 -> PAID | BW41: 34058 | BX41: =BW41-BY41 -> 42097.509 | BY41: =BZ40*16%/12 -> -8039.5095 | BZ41: =BZ40-BX41 -> -645060.72
A42: =IF(Values_Entered,A41+1,"") | B42: =B41+31 -> 45524 | C42: =IF(Pay_Num<>"",I41,"") | D42: =IF(Pay_Num<>"",Scheduled_Monthly_Payment,"") | F42: =IF(AND(Pay_Num<>"",Sched_Pay+Extra_Pay<Beg_Bal),Sched_Pay+Extra_Pay,IF(Pay_Num<>"",Beg_Bal,"")) -> #VALUE! | G42: =IF(Pay_Num<>"",Total_Pay-Int,"") | H42: =IF(Pay_Num<>"",Beg_Bal*Interest_Rate/Num_Pmt_Per_Year,"") | I42: =IF(AND(Pay_Num<>"",Sched_Pay+Extra_Pay<Beg_Bal),Beg_Bal-Princ,IF(Pay_Num<>"",0,"")) -> #VALUE! | J42: ='[4]B11-L8'!J49 -> PAID | BW42: 34058 | BX42: =BW42-BY42 -> 42658.81 | BY42: =BZ41*16%/12 -> -8600.8096 | BZ42: =BZ41-BX42 -> -687719.53
A43: =IF(Values_Entered,A42+1,"") | B43: =B42+31 -> 45555 | C43: =IF(Pay_Num<>"",I42,"") | D43: =IF(Pay_Num<>"",Scheduled_Monthly_Payment,"") | F43: =IF(AND(Pay_Num<>"",Sched_Pay+Extra_Pay<Beg_Bal),Sched_Pay+Extra_Pay,IF(Pay_Num<>"",Beg_Bal,"")) -> #VALUE! | G43: =IF(Pay_Num<>"",Total_Pay-Int,"") | H43: =IF(Pay_Num<>"",Beg_Bal*Interest_Rate/Num_Pmt_Per_Year,"") | I43: =IF(AND(Pay_Num<>"",Sched_Pay+Extra_Pay<Beg_Bal),Beg_Bal-Princ,IF(Pay_Num<>"",0,"")) -> #VALUE! | J43: ='[4]B11-L8'!J50 -> PAID | BW43: 34058 | BX43: =BW43-BY43 -> 43227.594 | BY43: =BZ42*16%/12 -> -9169.5937 | BZ43: =BZ42-BX43 -> -730947.12
A44: =IF(Values_Entered,A43+1,"") | B44: =B43+30 -> 45585 | C44: =IF(Pay_Num<>"",I43,"") | D44: =IF(Pay_Num<>"",Scheduled_Monthly_Payment,"") | F44: =IF(AND(Pay_Num<>"",Sched_Pay+Extra_Pay<Beg_Bal),Sched_Pay+Extra_Pay,IF(Pay_Num<>"",Beg_Bal,"")) -> #VALUE! | G44: =IF(Pay_Num<>"",Total_Pay-Int,"") | H44: =IF(Pay_Num<>"",Beg_Bal*Interest_Rate/Num_Pmt_Per_Year,"") | I44: =IF(AND(Pay_Num<>"",Sched_Pay+Extra_Pay<Beg_Bal),Beg_Bal-Princ,IF(Pay_Num<>"",0,"")) -> #VALUE! | J44: ='[4]B11-L8'!J51 -> PAID | BW44: 34058 | BX44: =BW44-BY44 -> 43803.962 | BY44: =BZ43*16%/12 -> -9745.9616 | BZ44: =BZ43-BX44 -> -774751.09
A45: =IF(Values_Entered,A44+1,"") | B45: =B44+31 -> 45616 | C45: =IF(Pay_Num<>"",I44,"") | D45: =IF(Pay_Num<>"",Scheduled_Monthly_Payment,"") | F45: =IF(AND(Pay_Num<>"",Sched_Pay+Extra_Pay<Beg_Bal),Sched_Pay+Extra_Pay,IF(Pay_Num<>"",Beg_Bal,"")) -> #VALUE! | G45: =IF(Pay_Num<>"",Total_Pay-Int,"") | H45: =IF(Pay_Num<>"",Beg_Bal*Interest_Rate/Num_Pmt_Per_Year,"") | I45: =IF(AND(Pay_Num<>"",Sched_Pay+Extra_Pay<Beg_Bal),Beg_Bal-Princ,IF(Pay_Num<>"",0,"")) -> #VALUE! | J45: ='[4]B11-L8'!J52 -> PAID | BW45: 34058 | BX45: =BW45-BY45 -> 44388.014 | BY45: =BZ44*16%/12 -> -10330.014 | BZ45: =BZ44-BX45 -> -819139.1
A46: =IF(Values_Entered,A45+1,"") | B46: =B45+30 -> 45646 | C46: =IF(Pay_Num<>"",I45,"") | D46: =IF(Pay_Num<>"",Scheduled_Monthly_Payment,"") | F46: =IF(AND(Pay_Num<>"",Sched_Pay+Extra_Pay<Beg_Bal),Sched_Pay+Extra_Pay,IF(Pay_Num<>"",Beg_Bal,"")) -> #VALUE! | G46: =IF(Pay_Num<>"",Total_Pay-Int,"") | H46: =IF(Pay_Num<>"",Beg_Bal*Interest_Rate/Num_Pmt_Per_Year,"") | I46: =IF(AND(Pay_Num<>"",Sched_Pay+Extra_Pay<Beg_Bal),Beg_Bal-Princ,IF(Pay_Num<>"",0,"")) -> #VALUE! | J46: ='[4]B11-L8'!J53 -> PAID | BW46: 34058 | BX46: =BW46-BY46 -> 44979.855 | BY46: =BZ45*16%/12 -> -10921.855 | BZ46: =BZ45-BX46 -> -864118.95
A47: =IF(Values_Entered,A46+1,"") | B47: =B46+31 -> 45677 | C47: =IF(Pay_Num<>"",I46,"") | D47: =IF(Pay_Num<>"",Scheduled_Monthly_Payment,"") | F47: =IF(AND(Pay_Num<>"",Sched_Pay+Extra_Pay<Beg_Bal),Sched_Pay+Extra_Pay,IF(Pay_Num<>"",Beg_Bal,"")) -> #VALUE! | G47: =IF(Pay_Num<>"",Total_Pay-Int,"") | H47: =IF(Pay_Num<>"",Beg_Bal*Interest_Rate/Num_Pmt_Per_Year,"") | I47: =IF(AND(Pay_Num<>"",Sched_Pay+Extra_Pay<Beg_Bal),Beg_Bal-Princ,IF(Pay_Num<>"",0,"")) -> #VALUE! | J47: ='[4]B11-L8'!J54 -> PAID | BW47: 34058 | BX47: =BW47-BY47 -> 45579.586 | BY47: =BZ46*16%/12 -> -11521.586 | BZ47: =BZ46-BX47 -> -909698.54
A48: =IF(Values_Entered,A47+1,"") | B48: =B47+31 -> 45708 | C48: =IF(Pay_Num<>"",I47,"") | D48: =IF(Pay_Num<>"",Scheduled_Monthly_Payment,"") | F48: =IF(AND(Pay_Num<>"",Sched_Pay+Extra_Pay<Beg_Bal),Sched_Pay+Extra_Pay,IF(Pay_Num<>"",Beg_Bal,"")) -> #VALUE! | G48: =IF(Pay_Num<>"",Total_Pay-Int,"") | H48: =IF(Pay_Num<>"",Beg_Bal*Interest_Rate/Num_Pmt_Per_Year,"") | I48: =IF(AND(Pay_Num<>"",Sched_Pay+Extra_Pay<Beg_Bal),Beg_Bal-Princ,IF(Pay_Num<>"",0,"")) -> #VALUE! | J48: ='[4]B11-L8'!J55 -> PAID | BW48: 34058 | BX48: =BW48-BY48 -> 46187.314 | BY48: =BZ47*16%/12 -> -12129.314 | BZ48: =BZ47-BX48 -> -955885.85
A49: =IF(Values_Entered,A48+1,"") | B49: =B48+28 -> 45736 | C49: =IF(Pay_Num<>"",I48,"") | D49: =IF(Pay_Num<>"",Scheduled_Monthly_Payment,"") | F49: =IF(AND(Pay_Num<>"",Sched_Pay+Extra_Pay<Beg_Bal),Sched_Pay+Extra_Pay,IF(Pay_Num<>"",Beg_Bal,"")) -> #VALUE! | G49: =IF(Pay_Num<>"",Total_Pay-Int,"") | H49: =IF(Pay_Num<>"",Beg_Bal*Interest_Rate/Num_Pmt_Per_Year,"") | I49: =IF(AND(Pay_Num<>"",Sched_Pay+Extra_Pay<Beg_Bal),Beg_Bal-Princ,IF(Pay_Num<>"",0,"")) -> #VALUE! | J49: ='[4]B11-L8'!J56 -> PAID | BW49: 34058 | BX49: =BW49-BY49 -> 46803.145 | BY49: =BZ48*16%/12 -> -12745.145 | BZ49: =BZ48-BX49 -> -1002689
A50: =IF(Values_Entered,A49+1,"") | B50: =B49+31 -> 45767 | C50: =IF(Pay_Num<>"",I49,"") | D50: =IF(Pay_Num<>"",Scheduled_Monthly_Payment,"") | F50: =IF(AND(Pay_Num<>"",Sched_Pay+Extra_Pay<Beg_Bal),Sched_Pay+Extra_Pay,IF(Pay_Num<>"",Beg_Bal,"")) -> #VALUE! | G50: =IF(Pay_Num<>"",Total_Pay-Int,"") | H50: =IF(Pay_Num<>"",Beg_Bal*Interest_Rate/Num_Pmt_Per_Year,"") | I50: =IF(AND(Pay_Num<>"",Sched_Pay+Extra_Pay<Beg_Bal),Beg_Bal-Princ,IF(Pay_Num<>"",0,"")) -> #VALUE! | J50: ='[4]B11-L8'!J57 -> PAID | BW50: 34058 | BX50: =BW50-BY50 -> 47427.187 | BY50: =BZ49*16%/12 -> -13369.187 | BZ50: =BZ49-BX50 -> -1050116.2
...

Sheet INTERNAL PRICELIST
A1: The Southprime Flats | R1: linked to computation - pls update as needed
A2: Mandurriao, Iloilo | R2: VAT Threshold | S2: 3199200
A3: Building 2 Pricelist (Ver.01) | J3: Part of LMF
A4: July 2022 | G4: HIDE | H4: HIDE | I4: HIDE | J4: HIDE | M4: 100000 | N4: NOT INCLUDED | O4: NOT INCLUDED | AA4: 7% @ 15 years
H5: 5000 | I5: 0.12 | J5: 0.91 | K5: Part of LMF | L5: Part of LMF | M5: 90000 | P5: 0.075 | Q5: 0.025 | S5: 0.1 | U5: 15000 | W5: 22 | Z5: 0.0077529894 | AA5: 0.0089882827 | AB5: 0.011610848 | AC5: 0.019801199
A6: Level | B6: Tagging | C6: Description | D6: Unit | E6: Area (sqm) | F6: Unit Type | G6: Selling Price | H6: HIC AMOUNT | I6: HIC VAT | J6: Smart home cost + recovery | K6: (+) Price Increase | L6: (+) Price Increase | M6: New Selling Price | N6: (+)Smart Home Cost | O6: (+)Recovery Program | P6: LMF | Q6: BF | R6: Total Contract Price | S6: Equity Rate | T6: Equity | U6: Reservation Fee | V6: Net Equity | W6: Equity Term (Months) | X6: Monthly Equity | Y6: Loanable Amount | Z6: Monthly Amort. 20 years @ 7% | AA6: Monthly Amort. 15 years @ 7% | AB6: Monthly Amort. 10 years @ 7% | AC6: Monthly Amort. 5 years @ 7% | AE6: Step-Up Computation | AN6: STATUS | AR6: FROM AREA TAB
A7: UPPER GROUND | B7: =M7/E7 -> 105880.05 | C7: Inner | D7: 1A | E7: 22 | F7: Studio Unit | G7: 2000000 | H7: =H$5*E7 -> 110000 | I7: =H7*I$5 -> 13200 | J7: =+(N7+O7)*$J$5 -> 63700 | K7: 75000 | L7: =(G7+H7+J7+K7)*3% -> 67461 | M7: =G7+H7+I7+J7+K7+L7 -> 2329361 | N7: 20000 | O7: 50000 | P7: =M7*P$5 -> 174702.07 | Q7: =M7*Q$5 -> 58234.025 | R7: =+M7+P7+Q7 -> 2562297.1 | S7: =S$5 -> 0.1 | T7: =R7*S7 -> 256229.71 | U7: =U$5 -> 15000 | V7: =T7-U7 -> 241229.71 | W7: =W$5 -> 22 | X7: =V7/W7 -> 10964.987 | Y7: =R7-T7 -> 2306067.4 | Z7: =Y7*Z$5 -> 17878.916 | AA7: =Y7*AA$5 -> 20727.586 | AB7: =Y7*AB$5 -> 26775.398 | AC7: =Y7*AC$5 -> 45662.898 | AE7: Net Equity | AG7: =V7 -> 241229.71 | AN7: UNSOLD | AR7: 1 | AS7: UNIT A | AT7: 22 | AU7: =AT7-E7 -> 0
A8: UPPER GROUND | B8: =M8/E8 -> 105880.05 | C8: Inner | D8: 1B | E8: 22 | F8: Studio Unit | G8: 2000000 | H8: =H$5*E8 -> 110000 | I8: =H8*I$5 -> 13200 | J8: =+(N8+O8)*$J$5 -> 63700 | K8: 75000 | L8: =(G8+H8+J8+K8)*3% -> 67461 | M8: =G8+H8+I8+J8+K8+L8 -> 2329361 | N8: 20000 | O8: 50000 | P8: =M8*P$5 -> 174702.07 | Q8: =M8*Q$5 -> 58234.025 | R8: =+M8+P8+Q8 -> 2562297.1 | S8: =S$5 -> 0.1 | T8: =R8*S8 -> 256229.71 | U8: =U$5 -> 15000 | V8: =T8-U8 -> 241229.71 | W8: =W$5 -> 22 | X8: =V8/W8 -> 10964.987 | Y8: =R8-T8 -> 2306067.4 | Z8: =Y8*Z$5 -> 17878.916 | AA8: =Y8*AA$5 -> 20727.586 | AB8: =Y8*AB$5 -> 26775.398 | AC8: =Y8*AC$5 -> 45662.898 | AF8: Months Covered | AG8: Months | AH8: % | AI8: Total | AJ8: Monthly | AN8: UNSOLD | AR8: 2 | AS8: UNIT B | AT8: 22 | AU8: =AT8-E8 -> 0
A9: UPPER GROUND | B9: =M9/E9 -> 105880.05 | C9: Inner | D9: 1C | E9: 22 | F9: Studio Unit | G9: 2000000 | H9: =H$5*E9 -> 110000 | I9: =H9*I$5 -> 13200 | J9: =+(N9+O9)*$J$5 -> 63700 | K9: 75000 | L9: =(G9+H9+J9+K9)*3% -> 67461 | M9: =G9+H9+I9+J9+K9+L9 -> 2329361 | N9: 20000 | O9: 50000 | P9: =M9*P$5 -> 174702.07 | Q9: =M9*Q$5 -> 58234.025 | R9: =+M9+P9+Q9 -> 2562297.1 | S9: =S$5 -> 0.1 | T9: =R9*S9 -> 256229.71 | U9: =U$5 -> 15000 | V9: =T9-U9 -> 241229.71 | W9: =W$5 -> 22 | X9: =V9/W9 -> 10964.987 | Y9: =R9-T9 -> 2306067.4 | Z9: =Y9*Z$5 -> 17878.916 | AA9: =Y9*AA$5 -> 20727.586 | AB9: =Y9*AB$5 -> 26775.398 | AC9: =Y9*AC$5 -> 45662.898 | AE9: Step Up 1 | AF9: 1st to 7th Month | AG9: 7 | AH9: 0.25 | AI9: =AG7*AH9 -> 60307.428 | AJ9: =AI9/AG9 -> 8615.3468 | AN9: UNSOLD | AR9: 3 | AS9: UNIT C | AT9: 22 | AU9: =AT9-E9 -> 0
A10: UPPER GROUND | B10: =M10/E10 -> 105880.05 | C10: Inner | D10: 1D | E10: 22 | F10: Studio Unit | G10: 2000000 | H10: =H$5*E10 -> 110000 | I10: =H10*I$5 -> 13200 | J10: =+(N10+O10)*$J$5 -> 63700 | K10: 75000 | L10: =(G10+H10+J10+K10)*3% -> 67461 | M10: =G10+H10+I10+J10+K10+L10 -> 2329361 | N10: 20000 | O10: 50000 | P10: =M10*P$5 -> 174702.07 | Q10: =M10*Q$5 -> 58234.025 | R10: =+M10+P10+Q10 -> 2562297.1 | S10: =S$5 -> 0.1 | T10: =R10*S10 -> 256229.71 | U10: =U$5 -> 15000 | V10: =T10-U10 -> 241229.71 | W10: =W$5 -> 22 | X10: =V10/W10 -> 10964.987 | Y10: =R10-T10 -> 2306067.4 | Z10: =Y10*Z$5 -> 17878.916 | AA10: =Y10*AA$5 -> 20727.586 | AB10: =Y10*AB$5 -> 26775.398 | AC10: =Y10*AC$5 -> 45662.898 | AE10: Step Up 2 | AF10: 8th to 14th Month | AG10: 7 | AH10: 0.35 | AI10: =AG7*AH10 -> 84430.398 | AJ10: =AI10/AG10 -> 12061.485 | AN10: UNSOLD | AR10: 4 | AS10: UNIT D | AT10: 22 | AU10: =AT10-E10 -> 0
A11: UPPER GROUND | B11: =M11/E11 -> 105880.05 | C11: Inner | D11: 1E | E11: 22 | F11: Studio Unit | G11: 2000000 | H11: =H$5*E11 -> 110000 | I11: =H11*I$5 -> 13200 | J11: =+(N11+O11)*$J$5 -> 63700 | K11: 75000 | L11: =(G11+H11+J11+K11)*3% -> 67461 | M11: =G11+H11+I11+J11+K11+L11 -> 2329361 | N11: 20000 | O11: 50000 | P11: =M11*P$5 -> 174702.07 | Q11: =M11*Q$5 -> 58234.025 | R11: =+M11+P11+Q11 -> 2562297.1 | S11: =S$5 -> 0.1 | T11: =R11*S11 -> 256229.71 | U11: =U$5 -> 15000 | V11: =T11-U11 -> 241229.71 | W11: =W$5 -> 22 | X11: =V11/W11 -> 10964.987 | Y11: =R11-T11 -> 2306067.4 | Z11: =Y11*Z$5 -> 17878.916 | AA11: =Y11*AA$5 -> 20727.586 | AB11: =Y11*AB$5 -> 26775.398 | AC11: =Y11*AC$5 -> 45662.898 | AE11: Step Up 3 | AF11: 15th to 22nd Month | AG11: 8 | AH11: 0.4 | AI11: =AG7*AH11 -> 96491.884 | AJ11: =AI11/AG11 -> 12061.486 | AN11: UNSOLD | AR11: 5 | AS11: UNIT E | AT11: 22 | AU11: =AT11-E11 -> 0
A12: UPPER GROUND | B12: =M12/E12 -> 105880.05 | C12: Corner | D12: 1F | E12: 22 | F12: Studio Unit | G12: 2000000 | H12: =H$5*E12 -> 110000 | I12: =H12*I$5 -> 13200 | J12: =+(N12+O12)*$J$5 -> 63700 | K12: 75000 | L12: =(G12+H12+J12+K12)*3% -> 67461 | M12: =G12+H12+I12+J12+K12+L12 -> 2329361 | N12: 20000 | O12: 50000 | P12: =M12*P$5 -> 174702.07 | Q12: =M12*Q$5 -> 58234.025 | R12: =+M12+P12+Q12 -> 2562297.1 | S12: =S$5 -> 0.1 | T12: =R12*S12 -> 256229.71 | U12: =U$5 -> 15000 | V12: =T12-U12 -> 241229.71 | W12: =W$5 -> 22 | X12: =V12/W12 -> 10964.987 | Y12: =R12-T12 -> 2306067.4 | Z12: =Y12*Z$5 -> 17878.916 | AA12: =Y12*AA$5 -> 20727.586 | AB12: =Y12*AB$5 -> 26775.398 | AC12: =Y12*AC$5 -> 45662.898 | AE12: Total | AG12: =SUM(AG9:AG11) -> 22 | AH12: =SUM(AH9:AH11) -> 1 | AI12: =SUM(AI9:AI11) -> 241229.71 | AN12: UNSOLD | AR12: 6 | AS12: UNIT F | AT12: 22 | AU12: =AT12-E12 -> 0
A13: UPPER GROUND | B13: =M13/E13 -> 104356.13 | C13: Corner | D13: 1G | E13: 22.34 | F13: Studio Unit | G13: 2000000 | H13: =H$5*E13 -> 111700 | I13: =H13*I$5 -> 13404 | J13: =+(N13+O13)*$J$5 -> 63700 | K13: 75000 | L13: =(G13+H13+J13+K13)*3% -> 67512 | M13: =G13+H13+I13+J13+K13+L13 -> 2331316 | N13: 20000 | O13: 50000 | P13: =M13*P$5 -> 174848.7 | Q13: =M13*Q$5 -> 58282.9 | R13: =+M13+P13+Q13 -> 2564447.6 | S13: =S$5 -> 0.1 | T13: =R13*S13 -> 256444.76 | U13: =U$5 -> 15000 | V13: =T13-U13 -> 241444.76 | W13: =W$5 -> 22 | X13: =V13/W13 -> 10974.762 | Y13: =R13-T13 -> 2308002.8 | Z13: =Y13*Z$5 -> 17893.921 | AA13: =Y13*AA$5 -> 20744.982 | AB13: =Y13*AB$5 -> 26797.87 | AC13: =Y13*AC$5 -> 45701.222 | AN13: UNSOLD | AR13: 7 | AS13: UNIT G | AT13: 22.34 | AU13: =AT13-E13 -> 0
A14: UPPER GROUND | B14: =M14/E14 -> 105880.05 | C14: Inner | D14: 1H | E14: 22 | F14: Studio Unit | G14: 2000000 | H14: =H$5*E14 -> 110000 | I14: =H14*I$5 -> 13200 | J14: =+(N14+O14)*$J$5 -> 63700 | K14: 75000 | L14: =(G14+H14+J14+K14)*3% -> 67461 | M14: =G14+H14+I14+J14+K14+L14 -> 2329361 | N14: 20000 | O14: 50000 | P14: =M14*P$5 -> 174702.07 | Q14: =M14*Q$5 -> 58234.025 | R14: =+M14+P14+Q14 -> 2562297.1 | S14: =S$5 -> 0.1 | T14: =R14*S14 -> 256229.71 | U14: =U$5 -> 15000 | V14: =T14-U14 -> 241229.71 | W14: =W$5 -> 22 | X14: =V14/W14 -> 10964.987 | Y14: =R14-T14 -> 2306067.4 | Z14: =Y14*Z$5 -> 17878.916 | AA14: =Y14*AA$5 -> 20727.586 | AB14: =Y14*AB$5 -> 26775.398 | AC14: =Y14*AC$5 -> 45662.898 | AE14: Net Equity | AG14: =V31 -> 241444.76 | AN14: UNSOLD | AR14: 8 | AS14: UNIT H | AT14: 22 | AU14: =AT14-E14 -> 0
A15: UPPER GROUND | B15: =M15/E15 -> 105880.05 | C15: Inner | D15: 1I | E15: 22 | F15: Studio Unit | G15: 2000000 | H15: =H$5*E15 -> 110000 | I15: =H15*I$5 -> 13200 | J15: =+(N15+O15)*$J$5 -> 63700 | K15: 75000 | L15: =(G15+H15+J15+K15)*3% -> 67461 | M15: =G15+H15+I15+J15+K15+L15 -> 2329361 | N15: 20000 | O15: 50000 | P15: =M15*P$5 -> 174702.07 | Q15: =M15*Q$5 -> 58234.025 | R15: =+M15+P15+Q15 -> 2562297.1 | S15: =S$5 -> 0.1 | T15: =R15*S15 -> 256229.71 | U15: =U$5 -> 15000 | V15: =T15-U15 -> 241229.71 | W15: =W$5 -> 22 | X15: =V15/W15 -> 10964.987 | Y15: =R15-T15 -> 2306067.4 | Z15: =Y15*Z$5 -> 17878.916 | AA15: =Y15*AA$5 -> 20727.586 | AB15: =Y15*AB$5 -> 26775.398 | AC15: =Y15*AC$5 -> 45662.898 | AG15: Months | AH15: % | AI15: Total | AJ15: Monthly | AN15: UNSOLD | AR15: 9 | AS15: UNIT I | AT15: 22 | AU15: =AT15-E15 -> 0
A16: UPPER GROUND | B16: =M16/E16 -> 105880.05 | C16: Inner | D16: 1J | E16: 22 | F16: Studio Unit | G16: 2000000 | H16: =H$5*E16 -> 110000 | I16: =H16*I$5 -> 13200 | J16: =+(N16+O16)*$J$5 -> 63700 | K16: 75000 | L16: =(G16+H16+J16+K16)*3% -> 67461 | M16: =G16+H16+I16+J16+K16+L16 -> 2329361 | N16: 20000 | O16: 50000 | P16: =M16*P$5 -> 174702.07 | Q16: =M16*Q$5 -> 58234.025 | R16: =+M16+P16+Q16 -> 2562297.1 | S16: =S$5 -> 0.1 | T16: =R16*S16 -> 256229.71 | U16: =U$5 -> 15000 | V16: =T16-U16 -> 241229.71 | W16: =W$5 -> 22 | X16: =V16/W16 -> 10964.987 | Y16: =R16-T16 -> 2306067.4 | Z16: =Y16*Z$5 -> 17878.916 | AA16: =Y16*AA$5 -> 20727.586 | AB16: =Y16*AB$5 -> 26775.398 | AC16: =Y16*AC$5 -> 45662.898 | AE16: Step Up 1 | AH16: 0.25 | AI16: =AG14*AH16 -> 60361.19 | AJ16: =AI16/AG16 -> #DIV/0! | AN16: UNSOLD | AR16: 10 | AS16: UNIT J | AT16: 22 | AU16: =AT16-E16 -> 0
A17: UPPER GROUND | B17: =M17/E17 -> 105880.05 | C17: Inner | D17: 1K | E17: 22 | F17: Studio Unit | G17: 2000000 | H17: =H$5*E17 -> 110000 | I17: =H17*I$5 -> 13200 | J17: =+(N17+O17)*$J$5 -> 63700 | K17: 75000 | L17: =(G17+H17+J17+K17)*3% -> 67461 | M17: =G17+H17+I17+J17+K17+L17 -> 2329361 | N17: 20000 | O17: 50000 | P17: =M17*P$5 -> 174702.07 | Q17: =M17*Q$5 -> 58234.025 | R17: =+M17+P17+Q17 -> 2562297.1 | S17: =S$5 -> 0.1 | T17: =R17*S17 -> 256229.71 | U17: =U$5 -> 15000 | V17: =T17-U17 -> 241229.71 | W17: =W$5 -> 22 | X17: =V17/W17 -> 10964.987 | Y17: =R17-T17 -> 2306067.4 | Z17: =Y17*Z$5 -> 17878.916 | AA17: =Y17*AA$5 -> 20727.586 | AB17: =Y17*AB$5 -> 26775.398 | AC17: =Y17*AC$5 -> 45662.898 | AE17: Step Up 2 | AH17: 0.35 | AI17: =AG14*AH17 -> 84505.666 | AJ17: =AI17/AG17 -> #DIV/0! | AN17: UNSOLD | AR17: 11 | AS17: UNIT K | AT17: 22 | AU17: =AT17-E17 -> 0
A18: UPPER GROUND | B18: =M18/E18 -> 105880.05 | C18: Inner | D18: 1L | E18: 22 | F18: Studio Unit | G18: 2000000 | H18: =H$5*E18 -> 110000 | I18: =H18*I$5 -> 13200 | J18: =+(N18+O18)*$J$5 -> 63700 | K18: 75000 | L18: =(G18+H18+J18+K18)*3% -> 67461 | M18: =G18+H18+I18+J18+K18+L18 -> 2329361 | N18: 20000 | O18: 50000 | P18: =M18*P$5 -> 174702.07 | Q18: =M18*Q$5 -> 58234.025 | R18: =+M18+P18+Q18 -> 2562297.1 | S18: =S$5 -> 0.1 | T18: =R18*S18 -> 256229.71 | U18: =U$5 -> 15000 | V18: =T18-U18 -> 241229.71 | W18: =W$5 -> 22 | X18: =V18/W18 -> 10964.987 | Y18: =R18-T18 -> 2306067.4 | Z18: =Y18*Z$5 -> 17878.916 | AA18: =Y18*AA$5 -> 20727.586 | AB18: =Y18*AB$5 -> 26775.398 | AC18: =Y18*AC$5 -> 45662.898 | AE18: Step Up 3 | AH18: 0.4 | AI18: =AG14*AH18 -> 96577.904 | AJ18: =AI18/AG18 -> #DIV/0! | AN18: UNSOLD | AR18: 12 | AS18: UNIT L | AT18: 22 | AU18: =AT18-E18 -> 0
A19: UPPER GROUND | B19: =M19/E19 -> 105880.05 | C19: Inner | D19: 1M | E19: 22 | F19: Studio Unit | G19: 2000000 | H19: =H$5*E19 -> 110000 | I19: =H19*I$5 -> 13200 | J19: =+(N19+O19)*$J$5 -> 63700 | K19: 75000 | L19: =(G19+H19+J19+K19)*3% -> 67461 | M19: =G19+H19+I19+J19+K19+L19 -> 2329361 | N19: 20000 | O19: 50000 | P19: =M19*P$5 -> 174702.07 | Q19: =M19*Q$5 -> 58234.025 | R19: =+M19+P19+Q19 -> 2562297.1 | S19: =S$5 -> 0.1 | T19: =R19*S19 -> 256229.71 | U19: =U$5 -> 15000 | V19: =T19-U19 -> 241229.71 | W19: =W$5 -> 22 | X19: =V19/W19 -> 10964.987 | Y19: =R19-T19 -> 2306067.4 | Z19: =Y19*Z$5 -> 17878.916 | AA19: =Y19*AA$5 -> 20727.586 | AB19: =Y19*AB$5 -> 26775.398 | AC19: =Y19*AC$5 -> 45662.898 | AE19: Total | AG19: =SUM(AG16:AG18) -> 0 | AH19: =SUM(AH16:AH18) -> 1 | AI19: =SUM(AI16:AI18) -> 241444.76 | AN19: UNSOLD | AR19: 13 | AS19: UNIT M | AT19: 22 | AU19: =AT19-E19 -> 0
A20: UPPER GROUND | B20: =M20/E20 -> 105880.05 | C20: Inner | D20: 1N | E20: 22 | F20: Studio Unit | G20: 2000000 | H20: =H$5*E20 -> 110000 | I20: =H20*I$5 -> 13200 | J20: =+(N20+O20)*$J$5 -> 63700 | K20: 75000 | L20: =(G20+H20+J20+K20)*3% -> 67461 | M20: =G20+H20+I20+J20+K20+L20 -> 2329361 | N20: 20000 | O20: 50000 | P20: =M20*P$5 -> 174702.07 | Q20: =M20*Q$5 -> 58234.025 | R20: =+M20+P20+Q20 -> 2562297.1 | S20: =S$5 -> 0.1 | T20: =R20*S20 -> 256229.71 | U20: =U$5 -> 15000 | V20: =T20-U20 -> 241229.71 | W20: =W$5 -> 22 | X20: =V20/W20 -> 10964.987 | Y20: =R20-T20 -> 2306067.4 | Z20: =Y20*Z$5 -> 17878.916 | AA20: =Y20*AA$5 -> 20727.586 | AB20: =Y20*AB$5 -> 26775.398 | AC20: =Y20*AC$5 -> 45662.898 | AN20: UNSOLD | AR20: 14 | AS20: UNIT N | AT20: 22 | AU20: =AT20-E20 -> 0
A21: UPPER GROUND | B21: =M21/E21 -> 105880.05 | C21: Inner | D21: 1O | E21: 22 | F21: Studio Unit | G21: 2000000 | H21: =H$5*E21 -> 110000 | I21: =H21*I$5 -> 13200 | J21: =+(N21+O21)*$J$5 -> 63700 | K21: 75000 | L21: =(G21+H21+J21+K21)*3% -> 67461 | M21: =G21+H21+I21+J21+K21+L21 -> 2329361 | N21: 20000 | O21: 50000 | P21: =M21*P$5 -> 174702.07 | Q21: =M21*Q$5 -> 58234.025 | R21: =+M21+P21+Q21 -> 2562297.1 | S21: =S$5 -> 0.1 | T21: =R21*S21 -> 256229.71 | U21: =U$5 -> 15000 | V21: =T21-U21 -> 241229.71 | W21: =W$5 -> 22 | X21: =V21/W21 -> 10964.987 | Y21: =R21-T21 -> 2306067.4 | Z21: =Y21*Z$5 -> 17878.916 | AA21: =Y21*AA$5 -> 20727.586 | AB21: =Y21*AB$5 -> 26775.398 | AC21: =Y21*AC$5 -> 45662.898 | AF21: Edit every month | AN21: UNSOLD | AR21: 15 | AS21: UNIT O | AT21: 22 | AU21: =AT21-E21 -> 0
A22: UPPER GROUND | B22: =M22/E22 -> 105880.05 | C22: Inner | D22: 1P | E22: 22 | F22: Studio Unit | G22: 2000000 | H22: =H$5*E22 -> 110000 | I22: =H22*I$5 -> 13200 | J22: =+(N22+O22)*$J$5 -> 63700 | K22: 75000 | L22: =(G22+H22+J22+K22)*3% -> 67461 | M22: =G22+H22+I22+J22+K22+L22 -> 2329361 | N22: 20000 | O22: 50000 | P22: =M22*P$5 -> 174702.07 | Q22: =M22*Q$5 -> 58234.025 | R22: =+M22+P22+Q22 -> 2562297.1 | S22: =S$5 -> 0.1 | T22: =R22*S22 -> 256229.71 | U22: =U$5 -> 15000 | V22: =T22-U22 -> 241229.71 | W22: =W$5 -> 22 | X22: =V22/W22 -> 10964.987 | Y22: =R22-T22 -> 2306067.4 | Z22: =Y22*Z$5 -> 17878.916 | AA22: =Y22*AA$5 -> 20727.586 | AB22: =Y22*AB$5 -> 26775.398 | AC22: =Y22*AC$5 -> 45662.898 | AF22: N/A | AG22: less: Lumpsum Payment (24th month) | AN22: UNSOLD | AR22: 16 | AS22: UNIT P | AT22: 22 | AU22: =AT22-E22 -> 0
A23: UPPER GROUND | B23: =M23/E23 -> 104356.13 | C23: Corner | D23: 1Q | E23: 22.34 | F23: Studio Unit | G23: 2000000 | H23: =H$5*E23 -> 111700 | I23: =H23*I$5 -> 13404 | J23: =+(N23+O23)*$J$5 -> 63700 | K23: 75000 | L23: =(G23+H23+J23+K23)*3% -> 67512 | M23: =G23+H23+I23+J23+K23+L23 -> 2331316 | N23: 20000 | O23: 50000 | P23: =M23*P$5 -> 174848.7 | Q23: =M23*Q$5 -> 58282.9 | R23: =+M23+P23+Q23 -> 2564447.6 | S23: =S$5 -> 0.1 | T23: =R23*S23 -> 256444.76 | U23: =U$5 -> 15000 | V23: =T23-U23 -> 241444.76 | W23: =W$5 -> 22 | X23: =V23/W23 -> 10974.762 | Y23: =R23-T23 -> 2308002.8 | Z23: =Y23*Z$5 -> 17893.921 | AA23: =Y23*AA$5 -> 20744.982 | AB23: =Y23*AB$5 -> 26797.87 | AC23: =Y23*AC$5 -> 45701.222 | AN23: UNSOLD | AR23: 17 | AS23: UNIT Q | AT23: 22.34 | AU23: =AT23-E23 -> 0
A24: 2nd FLOOR | B24: =M24/E24 -> 105880.05 | C24: Inner | D24: 2A | E24: 22 | F24: Studio Unit | G24: 2000000 | H24: =H$5*E24 -> 110000 | I24: =H24*I$5 -> 13200 | J24: =+(N24+O24)*$J$5 -> 63700 | K24: 75000 | L24: =(G24+H24+J24+K24)*3% -> 67461 | M24: =G24+H24+I24+J24+K24+L24 -> 2329361 | N24: 20000 | O24: 50000 | P24: =M24*P$5 -> 174702.07 | Q24: =M24*Q$5 -> 58234.025 | R24: =+M24+P24+Q24 -> 2562297.1 | S24: =S$5 -> 0.1 | T24: =R24*S24 -> 256229.71 | U24: =U$5 -> 15000 | V24: =T24-U24 -> 241229.71 | W24: =W$5 -> 22 | X24: =V24/W24 -> 10964.987 | Y24: =R24-T24 -> 2306067.4 | Z24: =Y24*Z$5 -> 17878.916 | AA24: =Y24*AA$5 -> 20727.586 | AB24: =Y24*AB$5 -> 26775.398 | AC24: =Y24*AC$5 -> 45662.898 | AE24: Step Up: | AF24: 10% Equity Step-up | AN24: SOLD | AR24: 1 | AS24: UNIT A | AT24: 22 | AU24: =AT24-E24 -> 0
A25: 2nd FLOOR | B25: =M25/E25 -> 105880.05 | C25: Inner | D25: 2B | E25: 22 | F25: Studio Unit | G25: 2000000 | H25: =H$5*E25 -> 110000 | I25: =H25*I$5 -> 13200 | J25: =+(N25+O25)*$J$5 -> 63700 | K25: 75000 | L25: =(G25+H25+J25+K25)*3% -> 67461 | M25: =G25+H25+I25+J25+K25+L25 -> 2329361 | N25: 20000 | O25: 50000 | P25: =M25*P$5 -> 174702.07 | Q25: =M25*Q$5 -> 58234.025 | R25: =+M25+P25+Q25 -> 2562297.1 | S25: =S$5 -> 0.1 | T25: =R25*S25 -> 256229.71 | U25: =U$5 -> 15000 | V25: =T25-U25 -> 241229.71 | W25: =W$5 -> 22 | X25: =V25/W25 -> 10964.987 | Y25: =R25-T25 -> 2306067.4 | Z25: =Y25*Z$5 -> 17878.916 | AA25: =Y25*AA$5 -> 20727.586 | AB25: =Y25*AB$5 -> 26775.398 | AC25: =Y25*AC$5 -> 45662.898 | AE25: Step Up w/ 2.5%: | AF25: N/A | AG25: 10% Equity Step-up, 2.50% Lumpsum | AN25: SOLD | AR25: 2 | AS25: UNIT B | AT25: 22 | AU25: =AT25-E25 -> 0
A26: 2nd FLOOR | B26: =M26/E26 -> 105880.05 | C26: Inner | D26: 2C | E26: 22 | F26: Studio Unit | G26: 2000000 | H26: =H$5*E26 -> 110000 | I26: =H26*I$5 -> 13200 | J26: =+(N26+O26)*$J$5 -> 63700 | K26: 75000 | L26: =(G26+H26+J26+K26)*3% -> 67461 | M26: =G26+H26+I26+J26+K26+L26 -> 2329361 | N26: 20000 | O26: 50000 | P26: =M26*P$5 -> 174702.07 | Q26: =M26*Q$5 -> 58234.025 | R26: =+M26+P26+Q26 -> 2562297.1 | S26: =S$5 -> 0.1 | T26: =R26*S26 -> 256229.71 | U26: =U$5 -> 15000 | V26: =T26-U26 -> 241229.71 | W26: =W$5 -> 22 | X26: =V26/W26 -> 10964.987 | Y26: =R26-T26 -> 2306067.4 | Z26: =Y26*Z$5 -> 17878.916 | AA26: =Y26*AA$5 -> 20727.586 | AB26: =Y26*AB$5 -> 26775.398 | AC26: =Y26*AC$5 -> 45662.898 | AE26: w/ 2.5% Lumpsum: | AF26: N/A | AG26: 10% Equity spread, 2.50% Lumpsum | AN26: SOLD | AR26: 3 | AS26: UNIT C | AT26: 22 | AU26: =AT26-E26 -> 0
A27: 2nd FLOOR | B27: =M27/E27 -> 105880.05 | C27: Inner | D27: 2D | E27: 22 | F27: Studio Unit | G27: 2000000 | H27: =H$5*E27 -> 110000 | I27: =H27*I$5 -> 13200 | J27: =+(N27+O27)*$J$5 -> 63700 | K27: 75000 | L27: =(G27+H27+J27+K27)*3% -> 67461 | M27: =G27+H27+I27+J27+K27+L27 -> 2329361 | N27: 20000 | O27: 50000 | P27: =M27*P$5 -> 174702.07 | Q27: =M27*Q$5 -> 58234.025 | R27: =+M27+P27+Q27 -> 2562297.1 | S27: =S$5 -> 0.1 | T27: =R27*S27 -> 256229.71 | U27: =U$5 -> 15000 | V27: =T27-U27 -> 241229.71 | W27: =W$5 -> 22 | X27: =V27/W27 -> 10964.987 | Y27: =R27-T27 -> 2306067.4 | Z27: =Y27*Z$5 -> 17878.916 | AA27: =Y27*AA$5 -> 20727.586 | AB27: =Y27*AB$5 -> 26775.398 | AC27: =Y27*AC$5 -> 45662.898 | AN27: SOLD | AR27: 4 | AS27: UNIT D | AT27: 22 | AU27: =AT27-E27 -> 0
A28: 2nd FLOOR | B28: =M28/E28 -> 105880.05 | C28: Inner | D28: 2E | E28: 22 | F28: Studio Unit | G28: 2000000 | H28: =H$5*E28 -> 110000 | I28: =H28*I$5 -> 13200 | J28: =+(N28+O28)*$J$5 -> 63700 | K28: 75000 | L28: =(G28+H28+J28+K28)*3% -> 67461 | M28: =G28+H28+I28+J28+K28+L28 -> 2329361 | N28: 20000 | O28: 50000 | P28: =M28*P$5 -> 174702.07 | Q28: =M28*Q$5 -> 58234.025 | R28: =+M28+P28+Q28 -> 2562297.1 | S28: =S$5 -> 0.1 | T28: =R28*S28 -> 256229.71 | U28: =U$5 -> 15000 | V28: =T28-U28 -> 241229.71 | W28: =W$5 -> 22 | X28: =V28/W28 -> 10964.987 | Y28: =R28-T28 -> 2306067.4 | Z28: =Y28*Z$5 -> 17878.916 | AA28: =Y28*AA$5 -> 20727.586 | AB28: =Y28*AB$5 -> 26775.398 | AC28: =Y28*AC$5 -> 45662.898 | AN28: SOLD | AR28: 5 | AS28: UNIT E | AT28: 22 | AU28: =AT28-E28 -> 0
A29: 2nd FLOOR | B29: =M29/E29 -> 105880.05 | C29: Inner | D29: 2F | E29: 22 | F29: Studio Unit | G29: 2000000 | H29: =H$5*E29 -> 110000 | I29: =H29*I$5 -> 13200 | J29: =+(N29+O29)*$J$5 -> 63700 | K29: 75000 | L29: =(G29+H29+J29+K29)*3% -> 67461 | M29: =G29+H29+I29+J29+K29+L29 -> 2329361 | N29: 20000 | O29: 50000 | P29: =M29*P$5 -> 174702.07 | Q29: =M29*Q$5 -> 58234.025 | R29: =+M29+P29+Q29 -> 2562297.1 | S29: =S$5 -> 0.1 | T29: =R29*S29 -> 256229.71 | U29: =U$5 -> 15000 | V29: =T29-U29 -> 241229.71 | W29: =W$5 -> 22 | X29: =V29/W29 -> 10964.987 | Y29: =R29-T29 -> 2306067.4 | Z29: =Y29*Z$5 -> 17878.916 | AA29: =Y29*AA$5 -> 20727.586 | AB29: =Y29*AB$5 -> 26775.398 | AC29: =Y29*AC$5 -> 45662.898 | AN29: SOLD | AR29: 6 | AS29: UNIT F | AT29: 22 | AU29: =AT29-E29 -> 0
A30: 2nd FLOOR | B30: =M30/E30 -> 105880.05 | C30: Corner | D30: 2G | E30: 22 | F30: Studio Unit | G30: 2000000 | H30: =H$5*E30 -> 110000 | I30: =H30*I$5 -> 13200 | J30: =+(N30+O30)*$J$5 -> 63700 | K30: 75000 | L30: =(G30+H30+J30+K30)*3% -> 67461 | M30: =G30+H30+I30+J30+K30+L30 -> 2329361 | N30: 20000 | O30: 50000 | P30: =M30*P$5 -> 174702.07 | Q30: =M30*Q$5 -> 58234.025 | R30: =+M30+P30+Q30 -> 2562297.1 | S30: =S$5 -> 0.1 | T30: =R30*S30 -> 256229.71 | U30: =U$5 -> 15000 | V30: =T30-U30 -> 241229.71 | W30: =W$5 -> 22 | X30: =V30/W30 -> 10964.987 | Y30: =R30-T30 -> 2306067.4 | Z30: =Y30*Z$5 -> 17878.916 | AA30: =Y30*AA$5 -> 20727.586 | AB30: =Y30*AB$5 -> 26775.398 | AC30: =Y30*AC$5 -> 45662.898 | AE30: SPECIAL STEP-UP TERM | AN30: SOLD | AR30: 7 | AS30: UNIT G | AT30: 22 | AU30: =AT30-E30 -> 0
A31: 2nd FLOOR | B31: =M31/E31 -> 104356.13 | C31: Corner | D31: 2H | E31: 22.34 | F31: Studio Unit | G31: 2000000 | H31: =H$5*E31 -> 111700 | I31: =H31*I$5 -> 13404 | J31: =+(N31+O31)*$J$5 -> 63700 | K31: 75000 | L31: =(G31+H31+J31+K31)*3% -> 67512 | M31: =G31+H31+I31+J31+K31+L31 -> 2331316 | N31: 20000 | O31: 50000 | P31: =M31*P$5 -> 174848.7 | Q31: =M31*Q$5 -> 58282.9 | R31: =+M31+P31+Q31 -> 2564447.6 | S31: =S$5 -> 0.1 | T31: =R31*S31 -> 256444.76 | U31: =U$5 -> 15000 | V31: =T31-U31 -> 241444.76 | W31: =W$5 -> 22 | X31: =V31/W31 -> 10974.762 | Y31: =R31-T31 -> 2308002.8 | Z31: =Y31*Z$5 -> 17893.921 | AA31: =Y31*AA$5 -> 20744.982 | AB31: =Y31*AB$5 -> 26797.87 | AC31: =Y31*AC$5 -> 45701.222 | AE31: =AG9 -> 7 | AF31: =AF9 -> 1st to 7th Month | AN31: SOLD | AR31: 8 | AS31: UNIT H | AT31: 22.34 | AU31: =AT31-E31 -> 0
A32: 2nd FLOOR | B32: =M32/E32 -> 105880.05 | C32: Inner | D32: 2I | E32: 22 | F32: Studio Unit | G32: 2000000 | H32: =H$5*E32 -> 110000 | I32: =H32*I$5 -> 13200 | J32: =+(N32+O32)*$J$5 -> 63700 | K32: 75000 | L32: =(G32+H32+J32+K32)*3% -> 67461 | M32: =G32+H32+I32+J32+K32+L32 -> 2329361 | N32: 20000 | O32: 50000 | P32: =M32*P$5 -> 174702.07 | Q32: =M32*Q$5 -> 58234.025 | R32: =+M32+P32+Q32 -> 2562297.1 | S32: =S$5 -> 0.1 | T32: =R32*S32 -> 256229.71 | U32: =U$5 -> 15000 | V32: =T32-U32 -> 241229.71 | W32: =W$5 -> 22 | X32: =V32/W32 -> 10964.987 | Y32: =R32-T32 -> 2306067.4 | Z32: =Y32*Z$5 -> 17878.916 | AA32: =Y32*AA$5 -> 20727.586 | AB32: =Y32*AB$5 -> 26775.398 | AC32: =Y32*AC$5 -> 45662.898 | AE32: =AG10 -> 7 | AF32: =AF10 -> 8th to 14th Month | AN32: SOLD | AR32: 9 | AS32: UNIT I | AT32: 22 | AU32: =AT32-E32 -> 0
A33: 2nd FLOOR | B33: =M33/E33 -> 105880.05 | C33: Inner | D33: 2J | E33: 22 | F33: Studio Unit | G33: 2000000 | H33: =H$5*E33 -> 110000 | I33: =H33*I$5 -> 13200 | J33: =+(N33+O33)*$J$5 -> 63700 | K33: 75000 | L33: =(G33+H33+J33+K33)*3% -> 67461 | M33: =G33+H33+I33+J33+K33+L33 -> 2329361 | N33: 20000 | O33: 50000 | P33: =M33*P$5 -> 174702.07 | Q33: =M33*Q$5 -> 58234.025 | R33: =+M33+P33+Q33 -> 2562297.1 | S33: =S$5 -> 0.1 | T33: =R33*S33 -> 256229.71 | U33: =U$5 -> 15000 | V33: =T33-U33 -> 241229.71 | W33: =W$5 -> 22 | X33: =V33/W33 -> 10964.987 | Y33: =R33-T33 -> 2306067.4 | Z33: =Y33*Z$5 -> 17878.916 | AA33: =Y33*AA$5 -> 20727.586 | AB33: =Y33*AB$5 -> 26775.398 | AC33: =Y33*AC$5 -> 45662.898 | AE33: =AG11 -> 8 | AF33: =AF11 -> 15th to 22nd Month | AN33: SOLD | AR33: 10 | AS33: UNIT J | AT33: 22 | AU33: =AT33-E33 -> 0
A34: 2nd FLOOR | B34: =M34/E34 -> 105880.05 | C34: Inner | D34: 2K | E34: 22 | F34: Studio Unit | G34: 2000000 | H34: =H$5*E34 -> 110000 | I34: =H34*I$5 -> 13200 | J34: =+(N34+O34)*$J$5 -> 63700 | K34: 75000 | L34: =(G34+H34+J34+K34)*3% -> 67461 | M34: =G34+H34+I34+J34+K34+L34 -> 2329361 | N34: 20000 | O34: 50000 | P34: =M34*P$5 -> 174702.07 | Q34: =M34*Q$5 -> 58234.025 | R34: =+M34+P34+Q34 -> 2562297.1 | S34: =S$5 -> 0.1 | T34: =R34*S34 -> 256229.71 | U34: =U$5 -> 15000 | V34: =T34-U34 -> 241229.71 | W34: =W$5 -> 22 | X34: =V34/W34 -> 10964.987 | Y34: =R34-T34 -> 2306067.4 | Z34: =Y34*Z$5 -> 17878.916 | AA34: =Y34*AA$5 -> 20727.586 | AB34: =Y34*AB$5 -> 26775.398 | AC34: =Y34*AC$5 -> 45662.898 | AE34: =SUM(AE31:AE33) -> 22 | AN34: SOLD | AR34: 11 | AS34: UNIT K | AT34: 22 | AU34: =AT34-E34 -> 0
A35: 2nd FLOOR | B35: =M35/E35 -> 105880.05 | C35: Inner | D35: 2L | E35: 22 | F35: Studio Unit | G35: 2000000 | H35: =H$5*E35 -> 110000 | I35: =H35*I$5 -> 13200 | J35: =+(N35+O35)*$J$5 -> 63700 | K35: 75000 | L35: =(G35+H35+J35+K35)*3% -> 67461 | M35: =G35+H35+I35+J35+K35+L35 -> 2329361 | N35: 20000 | O35: 50000 | P35: =M35*P$5 -> 174702.07 | Q35: =M35*Q$5 -> 58234.025 | R35: =+M35+P35+Q35 -> 2562297.1 | S35: =S$5 -> 0.1 | T35: =R35*S35 -> 256229.71 | U35: =U$5 -> 15000 | V35: =T35-U35 -> 241229.71 | W35: =W$5 -> 22 | X35: =V35/W35 -> 10964.987 | Y35: =R35-T35 -> 2306067.4 | Z35: =Y35*Z$5 -> 17878.916 | AA35: =Y35*AA$5 -> 20727.586 | AB35: =Y35*AB$5 -> 26775.398 | AC35: =Y35*AC$5 -> 45662.898 | AF35: Lumpsum payment of the 7th, 14th, & 22nd month | AN35: UNSOLD | AR35: 12 | AS35: UNIT L | AT35: 22 | AU35: =AT35-E35 -> 0
A36: 2nd FLOOR | B36: =M36/E36 -> 105880.05 | C36: Inner | D36: 2M | E36: 22 | F36: Studio Unit | G36: 2000000 | H36: =H$5*E36 -> 110000 | I36: =H36*I$5 -> 13200 | J36: =+(N36+O36)*$J$5 -> 63700 | K36: 75000 | L36: =(G36+H36+J36+K36)*3% -> 67461 | M36: =G36+H36+I36+J36+K36+L36 -> 2329361 | N36: 20000 | O36: 50000 | P36: =M36*P$5 -> 174702.07 | Q36: =M36*Q$5 -> 58234.025 | R36: =+M36+P36+Q36 -> 2562297.1 | S36: =S$5 -> 0.1 | T36: =R36*S36 -> 256229.71 | U36: =U$5 -> 15000 | V36: =T36-U36 -> 241229.71 | W36: =W$5 -> 22 | X36: =V36/W36 -> 10964.987 | Y36: =R36-T36 -> 2306067.4 | Z36: =Y36*Z$5 -> 17878.916 | AA36: =Y36*AA$5 -> 20727.586 | AB36: =Y36*AB$5 -> 26775.398 | AC36: =Y36*AC$5 -> 45662.898 | AN36: SOLD | AR36: 13 | AS36: UNIT M | AT36: 22 | AU36: =AT36-E36 -> 0
A37: 2nd FLOOR | B37: =M37/E37 -> 105880.05 | C37: Inner | D37: 2N | E37: 22 | F37: Studio Unit | G37: 2000000 | H37: =H$5*E37 -> 110000 | I37: =H37*I$5 -> 13200 | J37: =+(N37+O37)*$J$5 -> 63700 | K37: 75000 | L37: =(G37+H37+J37+K37)*3% -> 67461 | M37: =G37+H37+I37+J37+K37+L37 -> 2329361 | N37: 20000 | O37: 50000 | P37: =M37*P$5 -> 174702.07 | Q37: =M37*Q$5 -> 58234.025 | R37: =+M37+P37+Q37 -> 2562297.1 | S37: =S$5 -> 0.1 | T37: =R37*S37 -> 256229.71 | U37: =U$5 -> 15000 | V37: =T37-U37 -> 241229.71 | W37: =W$5 -> 22 | X37: =V37/W37 -> 10964.987 | Y37: =R37-T37 -> 2306067.4 | Z37: =Y37*Z$5 -> 17878.916 | AA37: =Y37*AA$5 -> 20727.586 | AB37: =Y37*AB$5 -> 26775.398 | AC37: =Y37*AC$5 -> 45662.898 | AN37: SOLD | AR37: 14 | AS37: UNIT N | AT37: 22 | AU37: =AT37-E37 -> 0
A38: 2nd FLOOR | B38: =M38/E38 -> 105880.05 | C38: Inner | D38: 2O | E38: 22 | F38: Studio Unit | G38: 2000000 | H38: =H$5*E38 -> 110000 | I38: =H38*I$5 -> 13200 | J38: =+(N38+O38)*$J$5 -> 63700 | K38: 75000 | L38: =(G38+H38+J38+K38)*3% -> 67461 | M38: =G38+H38+I38+J38+K38+L38 -> 2329361 | N38: 20000 | O38: 50000 | P38: =M38*P$5 -> 174702.07 | Q38: =M38*Q$5 -> 58234.025 | R38: =+M38+P38+Q38 -> 2562297.1 | S38: =S$5 -> 0.1 | T38: =R38*S38 -> 256229.71 | U38: =U$5 -> 15000 | V38: =T38-U38 -> 241229.71 | W38: =W$5 -> 22 | X38: =V38/W38 -> 10964.987 | Y38: =R38-T38 -> 2306067.4 | Z38: =Y38*Z$5 -> 17878.916 | AA38: =Y38*AA$5 -> 20727.586 | AB38: =Y38*AB$5 -> 26775.398 | AC38: =Y38*AC$5 -> 45662.898 | AN38: SOLD | AR38: 15 | AS38: UNIT O | AT38: 22 | AU38: =AT38-E38 -> 0
A39: 2nd FLOOR | B39: =M39/E39 -> 105880.05 | C39: Inner | D39: 2P | E39: 22 | F39: Studio Unit | G39: 2000000 | H39: =H$5*E39 -> 110000 | I39: =H39*I$5 -> 13200 | J39: =+(N39+O39)*$J$5 -> 63700 | K39: 75000 | L39: =(G39+H39+J39+K39)*3% -> 67461 | M39: =G39+H39+I39+J39+K39+L39 -> 2329361 | N39: 20000 | O39: 50000 | P39: =M39*P$5 -> 174702.07 | Q39: =M39*Q$5 -> 58234.025 | R39: =+M39+P39+Q39 -> 2562297.1 | S39: =S$5 -> 0.1 | T39: =R39*S39 -> 256229.71 | U39: =U$5 -> 15000 | V39: =T39-U39 -> 241229.71 | W39: =W$5 -> 22 | X39: =V39/W39 -> 10964.987 | Y39: =R39-T39 -> 2306067.4 | Z39: =Y39*Z$5 -> 17878.916 | AA39: =Y39*AA$5 -> 20727.586 | AB39: =Y39*AB$5 -> 26775.398 | AC39: =Y39*AC$5 -> 45662.898 | AN39: SOLD | AR39: 16 | AS39: UNIT P | AT39: 22 | AU39: =AT39-E39 -> 0
A40: 2nd FLOOR | B40: =M40/E40 -> 105880.05 | C40: Inner | D40: 2Q | E40: 22 | F40: Studio Unit | G40: 2000000 | H40: =H$5*E40 -> 110000 | I40: =H40*I$5 -> 13200 | J40: =+(N40+O40)*$J$5 -> 63700 | K40: 75000 | L40: =(G40+H40+J40+K40)*3% -> 67461 | M40: =G40+H40+I40+J40+K40+L40 -> 2329361 | N40: 20000 | O40: 50000 | P40: =M40*P$5 -> 174702.07 | Q40: =M40*Q$5 -> 58234.025 | R40: =+M40+P40+Q40 -> 2562297.1 | S40: =S$5 -> 0.1 | T40: =R40*S40 -> 256229.71 | U40: =U$5 -> 15000 | V40: =T40-U40 -> 241229.71 | W40: =W$5 -> 22 | X40: =V40/W40 -> 10964.987 | Y40: =R40-T40 -> 2306067.4 | Z40: =Y40*Z$5 -> 17878.916 | AA40: =Y40*AA$5 -> 20727.586 | AB40: =Y40*AB$5 -> 26775.398 | AC40: =Y40*AC$5 -> 45662.898 | AN40: SOLD | AR40: 17 | AS40: UNIT Q | AT40: 22 | AU40: =AT40-E40 -> 0
...

Sheet Corrected and Updated TSF 2
A1: The Southprime Flats | M1: 50 | O1: =O2+O3 -> 2110000 | AQ1: OLD | CA1: NEW. | GS1: ORIGINAL | HG1: SIMULATION
A2: Mandurriao, Iloilo | E2: Lower GF will Ground Floor (Parking Space) | I2: INNER UNITS | J2: 2ND | L2: 12TH | M2: 27 | O2: 110000 | AR2: VAT THRESHOLD | BV2: Top up Incentive | BW2: 75000 | CB2: VAT THRESHOLD | CH2: (Linked to Computation - pls update value if needed) | GA2: FOR AUG. 2023 | GI2: 10% Equity w/ 2.5% lumpsum
A3: Building 2 Pricelist (Ver.01) | E3: Upper GF will be New 2nd Floor | I3: LOWER FLOORS | J3: 3RD | K3: North | L3: 10TH | M3: =M1-M2 -> 23 | O3: 2000000 | AK3: =SUBTOTAL(9,AK7:AK219) -> 1234871.3 | AL3: =SUBTOTAL(9,AL7:AL219) -> 1211646 | AR3: 3199200 | BV3: Doc Incentive | BW3: 15000 | CB3: 3600000 | CH3: VAT threshold | CK3: 3199200 | GE3: 11 | GF3: 12 | GG3: 12
K4: East | O4: HIDE | P4: =P5*12% -> 2400 | R4: mark up for comm | AR4: BOI THRESHOLD | BV4: Past Incentive | BW4: =-30000*1.12 -> -33600 | CB4: BOI THRESHOLD | CU4: Interest Rate | CY4: IN HOUSE LOAN MONTHLY AMORT @80% TCP BALANCE | EC4: 45839 | ED4: Based on Construction | GE4: 0.25 | GF4: 0.35 | GG4: 0.4
K5: etc | N5: ='[5]TSF 2 Price study with Additive'!L3 -> 100909.09 | O5: CTS BARE | P5: 20000 | Q5: 50000 | R5: 0 | T5: 3000 | U5: 1000 | V5: 2500 | W5: 1000 | X5: 200 | Y5: 20000 | Z5: 75000 | AA5: ( = ) TOTAL ADDITIVES | AB5: 44848 | AC5: 0.025 | AD5: 44849 | AE5: 0.025 | AF5: SHOULD BE | AG5: 0.025 | AI5: 0.05 | AK5: 0.01 | AL5: 27537.41 | AP5: 0.135 | AR5: 2000000 | AU5: 0.12 | AW5: OLD PRICE | AX5: 0.0125 | AY5: =RECOVERIES!H13 -> 309227.44 | BA5: 0.0375 | BC5: 30000 | BD5: 260736 | BF5: =RECOVERIES!H50 -> 1238989.2 | BP5: 187418.73 | BR5: 148873.64 | BT5: =RECOVERIES!H88 -> 65981.989 | BV5: =RECOVERIES!H93 -> 50023.624 | BY5: =RECOVERIES!H98+RECOVERIES!O94 -> 1344164.1 | CB5: 2000000 | CE5: 0.12 | CJ5: =7.5%+2.75% -> 0.1025 | CK5: 0.035 | CM5: 0.125 | CO5: 30000 | CU5: 0.07 | CY5: 0.088848789 | CZ5: 0.035157033 | DA5: 0.025393427 | DB5: 0.019325567 | EB5: =AT5/AR5 -> 0 | EC5: END OF CONSTRUCTION | ED5: 45231 | EF5: SHOULD BE EQUITY IN PRICELIST | EG5: =ED5 -> 45231 | EN5: WITH ADDITIVES | EO5: NO DISCOUNT APPLICATION | EV5: CNC | FX5: 45108 | FY5: 45139 | GB5: 0.15 | GF5: 35 | GJ5: 0.1 | GK5: 0.025 | GN5: =GF5 -> 35 | HL5: 33 | IH5: =DATE(2025,9,1) -> 45901
A6: Inventory Count | B6: SALE STATUS | C6: Inventory Count/Floor | D6: Physical Floor | E6: Floor Presentation | F6: Tagging | G6: Unit ID | H6: Unit Code | I6: Unit Type | J6: Area (sqm) | K6: Orientation | L6: View | M6: Classification | N6: Typical Selling Price/Sqm. | O6: Total Typical Selling Prie | P6: Smart Home | Q6: RECOVERY PROGRAM | R6: ( + ) LOFTED | S6: ( + ) NEAR AMENITIES | T6: ( + ) PREMIUM 8TH FLOOR | U6: ( + ) EAST VIEW | V6: ( + ) CORNER | W6: ( + ) END UNIT | X6: ( + ) FACING AMENITIES | Y6: ( + ) LEVEL ADDITIVES (@5th Floor) | Z6: LMF INCREASE | AB6: NEW SELLING PRICEL | AC6: 1ST INCREASE | AD6: =AB6 -> NEW SELLING PRICEL | AE6: 2ND INCREASE | AF6: =AD6 -> NEW SELLING PRICEL | AG6: 3RD INCREASE | AH6: =AF6 -> NEW SELLING PRICEL | AI6: 4TH INCREASE | AJ6: NEW SELLING PRICE | AK6: INCREASE | AL6: RECOVERY AMOUNT | AM6: Interest | AN6: COMM RECOVERY | AO6: NEW SELLING PRICE | AP6: PRICE INCREASE_OCT. 1,2023 | AQ6: NEW SELLING PRICE | AR6: CTS BARE/DOAS | AS6: HIC/SQM | AT6: HIC | AU6: HIC VAT | AV6: ( = ) TOTAL HIC | AW6: NEW SELLING PRICE | AX6: Price Increase (July 2024) | AY6: INCIDENTAL RECOVERY (OCT 2024) | AZ6: NEW SELLING PRICE (Oct. 2024) | BA6: Price Increase (Oct 16,2024) | BB6: INCIDENTAL RECOVERY (OCT 16, 2024) | BC6: INCENTIVE RECOVERY OCT 16 2024 | BD6: INCIDENTAL RECOVERY (OCT. 29,2024) | BE6: NEW SELLING PRICE (NOV 2024) | BF6: INCIDENTAL RECOVERY (DEC 2024) | BG6: NEW SELLING PRICE (DEC 2024) | BH6: INCIDENTAL RECOVERY (JAN 2025) | BI6: NEW SELLING PRICE (JAN 2025) | BJ6: INCIDENTAL RECOVERY (FEB 2025) | BK6: NEW SELLING PRICE (FEB 2025) | BL6: INCIDENTAL RECOVERY (MAR 2025) | BM6: NEW SELLING PRICE (MAR 2025) | BN6: INCIDENTAL RECOVERY (APR 2025) | BO6: NEW SELLING PRICE (APR 2025) | BP6: INCIDENTAL RECOVERY (MAY 2025) | BQ6: NEW SELLING PRICE (MAY 2025) | BR6: INCIDENTAL RECOVERY (JUNE 2025) | BS6: NEW SELLING PRICE (JUNE 2025) | BT6: INCIDENTAL RECOVERY (JULY 2025) | BU6: NEW SELLING PRICE (JULY 2025) | BV6: INCIDENTAL RECOVERIES (August 2025) | BW6: Top-up Incentive + Documentrary Incentive - Past Cash Incentive | BX6: New Selling Price (Aug 2025) | BY6: INCIDENTAL RECOVERY (SEP 2025) | BZ6: NEW SELLING PRICE (SEP 2025) | CA6: NEW SELLING PRICE | CB6: CTS BARE/DOAS | CC6: HIC/SQM | CD6: HIC | CE6: HIC VAT | CF6: ( = ) TOTAL HIC | CG6: New Selling Price | CH6: New Selling Price | CI6: 12% VAT | CJ6: LMF | CK6: BF | CL6: Total Contract Price | CM6: Equity Rate | CN6: Equity | CO6: Reservation Fee | CP6: Net Equity | CQ6: Equity Term (Months) | CR6: Monthly Equity | CS6: Balance % | CT6: Loanable Amount | CU6: Monthly Amort. 20 years @ 7% fixed 3 yrs only | CV6: Monthly Amort. 15 years @ 7% fixed 3 yrs only | CW6: Monthly Amort. 10 years @ 7% fixed 3 yrs only | CX6: Monthly Amort. 5 years @ 7% fixed 3 yrs only | CY6: IN HOUSE MONTHLY AMORT 1YR. @12% | CZ6: IN HOUSE MONTHLY AMORT 3YRS. @16% | DA6: IN HOUSE MONTHLY AMORT 5YRS. @18% | DB6: IN HOUSE MONTHLY AMORT 10YRS. @20% | EA6: HIC% (OLD) | EB6: HIC % (NEW) | EC6: TURN OVER DATE | ED6: REMAINING EQUITY | EF6: ( + ) 2 MONTHS FOR PMD TURN OVER TO BUYER | EG6: MAXIMIZE EQUITY DP MONTHS | EH6: BOI STATUS | EI6: DOCS STATUS | EJ6: HIC / SQM. (INCLUSIVE OF VAT) | EK6: TOTAL HIC AMOUNT | EL6: HIC PERCENTAGE | EN6: CURRENT PRICE STUDY | EO6: ORIGINAL NSP | EP6: VARIANCE | ER6: NSP/SQM (CURRENT SP) | ET6: NEW PLAN | EU6: VARIANCE | EV6: CLIENTS NAME | EW6: REMARKS | EY6: REMARKS | EZ6: STATUS | FB6: Step-Up Computation | FI6: SALES STATUS | FJ6: MASTERLIST | FK6: CHECKING | FN6: CURRENT | FP6: UPDATED | FW6: Equity % | FX6: @ 33 MONTHS TERM | FY6: @ 32 MONTHS TERM | GA6: =CL6 -> Total Contract Price | GB6: Required Equity | GC6: =CN6 -> Equity | GD6: =CO6 -> Reservation Fee | GE6: =CP6 -> Net Equity | GF6: =CQ6 -> Equity Term (Months) | GG6: =CR6 -> Monthly Equity | GI6: Total Contract Price | GJ6: 10% Equity | GK6: 2.5% Lumpsum | GL6: Reservation Fee | GM6: Net Equity | GN6: Equity Term (Months) | GO6: Monthly Equity | GS6: =CL6 -> Total Contract Price | GT6: =CM6 -> Equity Rate | GU6: =CN6 -> Equity | GV6: =CO6 -> Reservation Fee | GW6: =CP6 -> Net Equity | GX6: =CQ6 -> Equity Term (Months) | GY6: =CR6 -> Monthly Equity | GZ6: =CS6 -> Balance % | ... HE6: =CX6 -> Monthly Amort. 5 years @ 7% fixed 3 yrs only | HG6: =GS6 -> Total Contract Price | HH6: =GT6 -> Equity Rate | HI6: =GU6 -> Equity | HJ6: =GV6 -> Reservation Fee | HK6: =GW6 -> Net Equity | HL6: =GX6 -> Equity Term (Months) | HM6: =GY6 -> Monthly Equity | HN6: =GZ6 -> Balance % | ... HS6: =HE6 -> Monthly Amort. 5 years @ 7% fixed 3 yrs only | HU6: VARIANCE ON MONTHLY EQUITY | IF6: Floor | IG6: Takeout / Client Move In | IH6: Equity Term
